BEGIN:VCALENDAR
VERSION:2.0
PRODID:-//Australasian Dark Sky Alliance - ECPv6.15.20//NONSGML v1.0//EN
CALSCALE:GREGORIAN
METHOD:PUBLISH
X-WR-CALNAME:Australasian Dark Sky Alliance
X-ORIGINAL-URL:https://australasiandarkskyalliance.org
X-WR-CALDESC:Events for Australasian Dark Sky Alliance
REFRESH-INTERVAL;VALUE=DURATION:PT1H
X-Robots-Tag:noindex
X-PUBLISHED-TTL:PT1H
BEGIN:VTIMEZONE
TZID:Australia/Sydney
BEGIN:STANDARD
TZOFFSETFROM:+1100
TZOFFSETTO:+1000
TZNAME:AEST
DTSTART:20240406T160000
END:STANDARD
BEGIN:DAYLIGHT
TZOFFSETFROM:+1000
TZOFFSETTO:+1100
TZNAME:AEDT
DTSTART:20241005T160000
END:DAYLIGHT
BEGIN:STANDARD
TZOFFSETFROM:+1100
TZOFFSETTO:+1000
TZNAME:AEST
DTSTART:20250405T160000
END:STANDARD
BEGIN:DAYLIGHT
TZOFFSETFROM:+1000
TZOFFSETTO:+1100
TZNAME:AEDT
DTSTART:20251004T160000
END:DAYLIGHT
BEGIN:STANDARD
TZOFFSETFROM:+1100
TZOFFSETTO:+1000
TZNAME:AEST
DTSTART:20260404T160000
END:STANDARD
BEGIN:DAYLIGHT
TZOFFSETFROM:+1000
TZOFFSETTO:+1100
TZNAME:AEDT
DTSTART:20261003T160000
END:DAYLIGHT
END:VTIMEZONE
BEGIN:VEVENT
DTSTART;TZID=Australia/Sydney:20250916T103000
DTEND;TZID=Australia/Sydney:20250916T113000
DTSTAMP:20260420T184637
CREATED:20250823T001203Z
LAST-MODIFIED:20250902T003836Z
UID:10000001-1758018600-1758022200@australasiandarkskyalliance.org
SUMMARY:WEBINAR - Landon Bannister / ADSA Approved Lighting
DESCRIPTION:ADSA Approved Lighting: What it means\, why it matters\, and how to use it\nAs light pollution becomes a growing environmental\, health\, and planning concern\, the need for trustworthy\, night-safe lighting solutions is clearer than ever. \nIn this timely webinar\, lighting professional and standards expert Landon Bannister introduces the ADSA Approved Lighting program – a new accreditation system designed to help specifiers\, councils\, and communities choose luminaires that meet the highest standards for dark sky protection. \nLandon will walk you through: \n\nWhat qualifies a product for ADSA Approval\nHow ADSA’s criteria align with AS/NZS 4282 and international best practice\nThe importance of CCT\, shielding\, and spectral power distribution\nHow approved luminaires support biodiversity\, human wellbeing\, and responsible planning\nHow to interpret ADSA listings and integrate them into your lighting strategy or project tender\n\nThis session is ideal for lighting professionals\, architects\, engineers\, planners\, council asset managers\, procurement officers\, and anyone working to reduce light pollution through design and policy. \nAbout the Presenter\nLandon Bannister is a leading Australian lighting designer\, former President of the Illuminating Engineering Society of Australia and New Zealand (IESANZ)\, and a long-time advocate for environmentally responsible lighting. With more than two decades of experience\, he has worked across public\, commercial\, and civic projects – helping clients balance function\, beauty\, and sustainability. Landon is a key contributor to ADSA’s technical working group and played a lead role in developing the ADSA Approved framework.
URL:https://australasiandarkskyalliance.org/event/webinar-landon-bannister-adsa-approved-lighting/
CATEGORIES:Online
ATTACH;FMTTYPE=image/webp:https://australasiandarkskyalliance.org/wp-content/uploads/2025/08/ADSA-approved-lighting-webinar.webp
LOCATION:
END:VEVENT
END:VCALENDAR